BEGIN:VCALENDAR
VERSION:2.0
PRODID:-//Ramble On - ECPv6.15.20//NONSGML v1.0//EN
CALSCALE:GREGORIAN
METHOD:PUBLISH
X-ORIGINAL-URL:https://rambleon.ca
X-WR-CALDESC:Events for Ramble On
REFRESH-INTERVAL;VALUE=DURATION:PT1H
X-Robots-Tag:noindex
X-PUBLISHED-TTL:PT1H
BEGIN:VTIMEZONE
TZID:America/Vancouver
BEGIN:DAYLIGHT
TZOFFSETFROM:-0800
TZOFFSETTO:-0700
TZNAME:PDT
DTSTART:20250309T100000
END:DAYLIGHT
BEGIN:STANDARD
TZOFFSETFROM:-0700
TZOFFSETTO:-0800
TZNAME:PST
DTSTART:20251102T090000
END:STANDARD
BEGIN:DAYLIGHT
TZOFFSETFROM:-0800
TZOFFSETTO:-0700
TZNAME:PDT
DTSTART:20260308T100000
END:DAYLIGHT
BEGIN:STANDARD
TZOFFSETFROM:-0700
TZOFFSETTO:-0800
TZNAME:PST
DTSTART:20261101T090000
END:STANDARD
BEGIN:DAYLIGHT
TZOFFSETFROM:-0800
TZOFFSETTO:-0700
TZNAME:PDT
DTSTART:20270314T100000
END:DAYLIGHT
BEGIN:STANDARD
TZOFFSETFROM:-0700
TZOFFSETTO:-0800
TZNAME:PST
DTSTART:20271107T090000
END:STANDARD
END:VTIMEZONE
BEGIN:VEVENT
DTSTART;VALUE=DATE:20260124
DTEND;VALUE=DATE:20260206
DTSTAMP:20260421T035740
CREATED:20260104T213120Z
LAST-MODIFIED:20260131T223441Z
UID:3232-1769212800-1770335999@rambleon.ca
SUMMARY:On the Once-Snowy Trails
DESCRIPTION:Daily snowshoeing\, spike hiking\, or lower elevation hiking\, varying the activity and the location by checking weather and snow conditions a day or two out. \n\nJan. 25 – Mara Trail ✔\nJan. 26 – Bunker Road Trails ✔\nJan. 27 – tennis ✔\nJan. 28 – Beacon Hill Trail ✔\nJan. 29 – tennis ✔\nJan. 30 – Cooney Bay ✔\nJan. 31 – tennis\nFeb. 1 – 5 – hike or possibly paddle in the valley area\n\nShare this:\n				Share on Facebook (Opens in new window)\n				Facebook
URL:https://rambleon.ca/event/on-the-once-snowy-trails/
LOCATION:Various Locations
CATEGORIES:PHDs
ATTACH;FMTTYPE=image/jpeg:https://rambleon.ca/wp-content/uploads/2025/01/20250129_105349.jpg
ORGANIZER;CN="Doug Smith":MAILTO:das3401@gmail.com
END:VEVENT
END:VCALENDAR