BEGIN:VCALENDAR
VERSION:2.0
PRODID:-//Ramble On - ECPv6.15.20//NONSGML v1.0//EN
CALSCALE:GREGORIAN
METHOD:PUBLISH
X-ORIGINAL-URL:https://rambleon.ca
X-WR-CALDESC:Events for Ramble On
REFRESH-INTERVAL;VALUE=DURATION:PT1H
X-Robots-Tag:noindex
X-PUBLISHED-TTL:PT1H
BEGIN:VTIMEZONE
TZID:America/Vancouver
BEGIN:DAYLIGHT
TZOFFSETFROM:-0800
TZOFFSETTO:-0700
TZNAME:PDT
DTSTART:20250309T100000
END:DAYLIGHT
BEGIN:STANDARD
TZOFFSETFROM:-0700
TZOFFSETTO:-0800
TZNAME:PST
DTSTART:20251102T090000
END:STANDARD
BEGIN:DAYLIGHT
TZOFFSETFROM:-0800
TZOFFSETTO:-0700
TZNAME:PDT
DTSTART:20260308T100000
END:DAYLIGHT
BEGIN:STANDARD
TZOFFSETFROM:-0700
TZOFFSETTO:-0800
TZNAME:PST
DTSTART:20261101T090000
END:STANDARD
BEGIN:DAYLIGHT
TZOFFSETFROM:-0800
TZOFFSETTO:-0700
TZNAME:PDT
DTSTART:20270314T100000
END:DAYLIGHT
BEGIN:STANDARD
TZOFFSETFROM:-0700
TZOFFSETTO:-0800
TZNAME:PST
DTSTART:20271107T090000
END:STANDARD
END:VTIMEZONE
BEGIN:VEVENT
DTSTART;VALUE=DATE:20260320
DTEND;VALUE=DATE:20260321
DTSTAMP:20260421T004018
CREATED:20260120T211330Z
LAST-MODIFIED:20260312T001454Z
UID:3429-1773964800-1774051199@rambleon.ca
SUMMARY:Dewdrop Hike
DESCRIPTION:At the start of spring\, a KHC hike in the hills – Dewdrop Ridge and the Bluebird Trail on this day or close to it. \nOther hikes this week – Cinnamon Ridge hilltop\, \n\nShare this:\n				Share on Facebook (Opens in new window)\n				Facebook
URL:https://rambleon.ca/event/dewdrop-hike/
LOCATION:Dewdrop Range\, Frederick Road\, Lac du Bois Provincial Park\, BC\, Canada
CATEGORIES:Hike
ATTACH;FMTTYPE=image/jpeg:https://rambleon.ca/wp-content/uploads/2025/03/20250321_113520.jpg
ORGANIZER;CN="Doug Smith":MAILTO:das3401@gmail.com
END:VEVENT
END:VCALENDAR